BEGIN:VCALENDAR
VERSION:2.0
PRODID:-//Warren County Quilt Guild - ECPv6.15.20//NONSGML v1.0//EN
CALSCALE:GREGORIAN
METHOD:PUBLISH
X-WR-CALNAME:Warren County Quilt Guild
X-ORIGINAL-URL:https://www.warrencountyquiltguild.com
X-WR-CALDESC:Events for Warren County Quilt Guild
REFRESH-INTERVAL;VALUE=DURATION:PT1H
X-Robots-Tag:noindex
X-PUBLISHED-TTL:PT1H
BEGIN:VTIMEZONE
TZID:America/New_York
BEGIN:DAYLIGHT
TZOFFSETFROM:-0500
TZOFFSETTO:-0400
TZNAME:EDT
DTSTART:20250309T070000
END:DAYLIGHT
BEGIN:STANDARD
TZOFFSETFROM:-0400
TZOFFSETTO:-0500
TZNAME:EST
DTSTART:20251102T060000
END:STANDARD
BEGIN:DAYLIGHT
TZOFFSETFROM:-0500
TZOFFSETTO:-0400
TZNAME:EDT
DTSTART:20260308T070000
END:DAYLIGHT
BEGIN:STANDARD
TZOFFSETFROM:-0400
TZOFFSETTO:-0500
TZNAME:EST
DTSTART:20261101T060000
END:STANDARD
BEGIN:DAYLIGHT
TZOFFSETFROM:-0500
TZOFFSETTO:-0400
TZNAME:EDT
DTSTART:20270314T070000
END:DAYLIGHT
BEGIN:STANDARD
TZOFFSETFROM:-0400
TZOFFSETTO:-0500
TZNAME:EST
DTSTART:20271107T060000
END:STANDARD
END:VTIMEZONE
BEGIN:VEVENT
DTSTART;TZID=America/New_York:20260312T190000
DTEND;TZID=America/New_York:20260312T210000
DTSTAMP:20260422T065714
CREATED:20250201T224158Z
LAST-MODIFIED:20251024T010117Z
UID:360-1773342000-1773349200@www.warrencountyquiltguild.com
SUMMARY:Monthly Quilt Guild Meeting
DESCRIPTION:
URL:https://www.warrencountyquiltguild.com/event/monthly-guild-meeting-9/
LOCATION:Lebanon Presbyterian Church\, 123 N East St\, Lebanon\, OH\, 45036\, United States
CATEGORIES:Quilt Guild Meetings
ATTACH;FMTTYPE=image/jpeg:https://www.warrencountyquiltguild.com/wp-content/uploads/2023/08/2023-08-featured.jpg
ORGANIZER;CN="Warren County Quilt Guild":MAILTO:information@warrencountyquiltguild.com
END:VEVENT
BEGIN:VEVENT
DTSTART;TZID=America/New_York:20260314T090000
DTEND;TZID=America/New_York:20260314T150000
DTSTAMP:20260422T065714
CREATED:20251113T025335Z
LAST-MODIFIED:20251113T025335Z
UID:2652-1773478800-1773500400@www.warrencountyquiltguild.com
SUMMARY:Stringtown Quilters Day Out Quilt Show
DESCRIPTION:2026 Quilt Show\n“Quilters’ Day Out” \nHosted by Stringtown Quilters Guild \nSaturday\, March 14\, 2026 9:00 am to 3:00 pm \nFirst Church of Christ Burlington\, KY 41005 \nFeatured Quilter Mrs. Cassandra Plott \n2025 Best of Show Award Winner \nOver 120 Quilts on Display\, Demonstrations\, Vendors\, Silent Auctions\, Free Admission and so much more! \nVisit www.stringtownquiltersguild.com for more details.
URL:https://www.warrencountyquiltguild.com/event/stringtown-quilters-day-out-quilt-show/
LOCATION:First Church of Christ\, 6080 Camp Ernst Road\, Burlington\, KY\, 41005\, United States
CATEGORIES:Quilter's Day Out
ATTACH;FMTTYPE=image/png:https://www.warrencountyquiltguild.com/wp-content/uploads/2025/11/2026-Stringtown-Quilters-Day-Out-thumbnail.png
END:VEVENT
BEGIN:VEVENT
DTSTART;TZID=America/New_York:20260319T100000
DTEND;TZID=America/New_York:20260322T150000
DTSTAMP:20260422T065714
CREATED:20250604T234149Z
LAST-MODIFIED:20250605T001308Z
UID:2141-1773914400-1774191600@www.warrencountyquiltguild.com
SUMMARY:Spring 2026 Retreat
DESCRIPTION:
URL:https://www.warrencountyquiltguild.com/event/spring-retreat/
LOCATION:Holiday Inn Cincinnati\, 7500 Tylers Pl Blvd\, West Chester Township\, OH\, 45069\, United States
CATEGORIES:Retreat
ATTACH;FMTTYPE=image/jpeg:https://www.warrencountyquiltguild.com/wp-content/uploads/2025/03/2025-02-featured.jpg
ORGANIZER;CN="Warren County Quilt Guild":MAILTO:information@warrencountyquiltguild.com
END:VEVENT
BEGIN:VEVENT
DTSTART;TZID=America/New_York:20260328T090000
DTEND;TZID=America/New_York:20260328T150000
DTSTAMP:20260422T065714
CREATED:20250225T023741Z
LAST-MODIFIED:20251023T030341Z
UID:1841-1774688400-1774710000@www.warrencountyquiltguild.com
SUMMARY:Sit & Sew
DESCRIPTION:
URL:https://www.warrencountyquiltguild.com/event/sit-sew/
LOCATION:Lebanon Fire Station\, 601 N. Broadway\, Lebanon\, OH\, 45036\, United States
CATEGORIES:Sit & Sew
ATTACH;FMTTYPE=image/jpeg:https://www.warrencountyquiltguild.com/wp-content/uploads/2022/12/2022-12-featured.jpg
ORGANIZER;CN="Warren County Quilt Guild":MAILTO:information@warrencountyquiltguild.com
END:VEVENT
END:VCALENDAR