BEGIN:VCALENDAR
VERSION:2.0
PRODID:-//Warren County Quilt Guild - ECPv6.15.20//NONSGML v1.0//EN
CALSCALE:GREGORIAN
METHOD:PUBLISH
X-ORIGINAL-URL:https://www.warrencountyquiltguild.com
X-WR-CALDESC:Events for Warren County Quilt Guild
REFRESH-INTERVAL;VALUE=DURATION:PT1H
X-Robots-Tag:noindex
X-PUBLISHED-TTL:PT1H
BEGIN:VTIMEZONE
TZID:America/New_York
BEGIN:DAYLIGHT
TZOFFSETFROM:-0500
TZOFFSETTO:-0400
TZNAME:EDT
DTSTART:20240310T070000
END:DAYLIGHT
BEGIN:STANDARD
TZOFFSETFROM:-0400
TZOFFSETTO:-0500
TZNAME:EST
DTSTART:20241103T060000
END:STANDARD
BEGIN:DAYLIGHT
TZOFFSETFROM:-0500
TZOFFSETTO:-0400
TZNAME:EDT
DTSTART:20250309T070000
END:DAYLIGHT
BEGIN:STANDARD
TZOFFSETFROM:-0400
TZOFFSETTO:-0500
TZNAME:EST
DTSTART:20251102T060000
END:STANDARD
BEGIN:DAYLIGHT
TZOFFSETFROM:-0500
TZOFFSETTO:-0400
TZNAME:EDT
DTSTART:20260308T070000
END:DAYLIGHT
BEGIN:STANDARD
TZOFFSETFROM:-0400
TZOFFSETTO:-0500
TZNAME:EST
DTSTART:20261101T060000
END:STANDARD
END:VTIMEZONE
BEGIN:VEVENT
DTSTART;TZID=America/New_York:20251025T090000
DTEND;TZID=America/New_York:20251025T150000
DTSTAMP:20260420T095601
CREATED:20250201T232448Z
LAST-MODIFIED:20251023T030011Z
UID:383-1761382800-1761404400@www.warrencountyquiltguild.com
SUMMARY:Sit & Sew
DESCRIPTION:
URL:https://www.warrencountyquiltguild.com/event/sit-and-sew-5/
LOCATION:Lebanon Fire Station\, 601 N. Broadway\, Lebanon\, OH\, 45036\, United States
CATEGORIES:Sit & Sew
ATTACH;FMTTYPE=image/jpeg:https://www.warrencountyquiltguild.com/wp-content/uploads/2025/02/2023-09-featured.jpg
ORGANIZER;CN="Warren County Quilt Guild":MAILTO:information@warrencountyquiltguild.com
END:VEVENT
BEGIN:VEVENT
DTSTART;VALUE=DATE:20251016
DTEND;VALUE=DATE:20251019
DTSTAMP:20260420T095601
CREATED:20250202T020231Z
LAST-MODIFIED:20250315T022702Z
UID:395-1760572800-1760831999@www.warrencountyquiltguild.com
SUMMARY:Original Sewing and Quilt Expo
DESCRIPTION:
URL:https://www.warrencountyquiltguild.com/event/original-sewing-and-quilt-expo/
LOCATION:Sharonville Convention Center\, 11355 Chester Rd\, Glendale\, OH\, 45246\, United States
CATEGORIES:Local Quilting Event
ATTACH;FMTTYPE=image/jpeg:https://www.warrencountyquiltguild.com/wp-content/uploads/2025/02/2023-10-featured.jpg
ORGANIZER;CN="Warren County Quilt Guild":MAILTO:information@warrencountyquiltguild.com
END:VEVENT
BEGIN:VEVENT
DTSTART;TZID=America/New_York:20250911T220000
DTEND;TZID=America/New_York:20250914T150000
DTSTAMP:20260420T095601
CREATED:20250201T223826Z
LAST-MODIFIED:20250824T185407Z
UID:354-1757628000-1757862000@www.warrencountyquiltguild.com
SUMMARY:Fall 2025 Retreat
DESCRIPTION:
URL:https://www.warrencountyquiltguild.com/event/monthly-guild-meeting-6/
LOCATION:Holiday Inn Cincinnati\, 7500 Tylers Pl Blvd\, West Chester Township\, OH\, 45069\, United States
CATEGORIES:Quilt Guild Meetings,Retreat
ATTACH;FMTTYPE=image/jpeg:https://www.warrencountyquiltguild.com/wp-content/uploads/2025/02/2023-12-featured.jpg
ORGANIZER;CN="Warren County Quilt Guild":MAILTO:information@warrencountyquiltguild.com
END:VEVENT
BEGIN:VEVENT
DTSTART;VALUE=DATE:20250606
DTEND;VALUE=DATE:20250608
DTSTAMP:20260420T095601
CREATED:20250201T233409Z
LAST-MODIFIED:20250222T231113Z
UID:387-1749168000-1749340799@www.warrencountyquiltguild.com
SUMMARY:One Stop Shop Hop
DESCRIPTION:Friday\, June 6 9:00-5:00 \nSat. 9-3 \nSaturday June 7 9:00-3:00
URL:https://www.warrencountyquiltguild.com/event/one-stop-shop-hop/
LOCATION:Nutter Center – Wright State University\, 640 Colonel Glenn Hwy\, Dayton\, OH\, 45435\, United States
CATEGORIES:Shop Hop
ATTACH;FMTTYPE=image/jpeg:https://www.warrencountyquiltguild.com/wp-content/uploads/2025/02/2024-08-featured.jpg
ORGANIZER;CN="Warren County Quilt Guild":MAILTO:information@warrencountyquiltguild.com
END:VEVENT
BEGIN:VEVENT
DTSTART;TZID=America/New_York:20250322T100000
DTEND;TZID=America/New_York:20250322T160000
DTSTAMP:20260420T095601
CREATED:20250315T023603Z
LAST-MODIFIED:20250315T023603Z
UID:1918-1742637600-1742659200@www.warrencountyquiltguild.com
SUMMARY:Quintessential Quilt Show
DESCRIPTION:Event will include vendors\, raffles\, and a Quilters’ Treasure Trove Sale.
URL:https://www.warrencountyquiltguild.com/event/quintessential-quilt-show-2/
LOCATION:Franklin County Fairgrounds – Edwards Building\, 4100 Columbia Street\, Hilliard\, OH\, 43026\, United States
ATTACH;FMTTYPE=image/jpeg:https://www.warrencountyquiltguild.com/wp-content/uploads/2025/03/2025-02-featured.jpg
ORGANIZER;CN="Warren County Quilt Guild":MAILTO:information@warrencountyquiltguild.com
END:VEVENT
BEGIN:VEVENT
DTSTART;TZID=America/New_York:20250321T100000
DTEND;TZID=America/New_York:20250321T180000
DTSTAMP:20260420T095601
CREATED:20250315T022556Z
LAST-MODIFIED:20250315T022827Z
UID:1916-1742551200-1742580000@www.warrencountyquiltguild.com
SUMMARY:Quintessential Quilt Show
DESCRIPTION:Event will include vendors\, raffles\, and a Quilters’ Treasure Trove Sale.
URL:https://www.warrencountyquiltguild.com/event/quintessential-quilt-show/
LOCATION:Franklin County Fairgrounds – Edwards Building\, 4100 Columbia Street\, Hilliard\, OH\, 43026\, United States
CATEGORIES:Local Quilting Event
ATTACH;FMTTYPE=image/jpeg:https://www.warrencountyquiltguild.com/wp-content/uploads/2025/02/2023-03-featured.jpg
ORGANIZER;CN="Warren County Quilt Guild":MAILTO:information@warrencountyquiltguild.com
END:VEVENT
BEGIN:VEVENT
DTSTART;TZID=America/New_York:20250315T090000
DTEND;TZID=America/New_York:20250315T150000
DTSTAMP:20260420T095601
CREATED:20250201T222720Z
LAST-MODIFIED:20250222T231356Z
UID:339-1742029200-1742050800@www.warrencountyquiltguild.com
SUMMARY:Stringtown Quilters Guild – Quilter’s Day Out
DESCRIPTION:
URL:https://www.warrencountyquiltguild.com/event/stringtown-quilters-guild-quilters-day-out/
LOCATION:First Church of Christ\, 6080 Camp Ernst Road\, Burlington\, KY\, 41005\, United States
CATEGORIES:Quilter's Day Out
ATTACH;FMTTYPE=image/jpeg:https://www.warrencountyquiltguild.com/wp-content/uploads/2025/02/2023-06-featured.jpg
ORGANIZER;CN="Warren County Quilt Guild":MAILTO:information@warrencountyquiltguild.com
END:VEVENT
BEGIN:VEVENT
DTSTART;VALUE=DATE:20250227
DTEND;VALUE=DATE:20250303
DTSTAMP:20260420T095601
CREATED:20250201T221739Z
LAST-MODIFIED:20250222T231432Z
UID:335-1740614400-1740959999@www.warrencountyquiltguild.com
SUMMARY:Spring 2025 Retreat
DESCRIPTION:
URL:https://www.warrencountyquiltguild.com/event/spring-2025-retreat/
LOCATION:Holiday Inn Cincinnati\, 7500 Tylers Pl Blvd\, West Chester Township\, OH\, 45069\, United States
CATEGORIES:Retreat
ATTACH;FMTTYPE=image/jpeg:https://www.warrencountyquiltguild.com/wp-content/uploads/2025/02/2024-12-17-featured.jpg
ORGANIZER;CN="Warren County Quilt Guild":MAILTO:information@warrencountyquiltguild.com
END:VEVENT
END:VCALENDAR