BEGIN:VCALENDAR
VERSION:2.0
PRODID:-//Warren County Quilt Guild - ECPv6.15.20//NONSGML v1.0//EN
CALSCALE:GREGORIAN
METHOD:PUBLISH
X-WR-CALNAME:Warren County Quilt Guild
X-ORIGINAL-URL:https://www.warrencountyquiltguild.com
X-WR-CALDESC:Events for Warren County Quilt Guild
REFRESH-INTERVAL;VALUE=DURATION:PT1H
X-Robots-Tag:noindex
X-PUBLISHED-TTL:PT1H
BEGIN:VTIMEZONE
TZID:America/New_York
BEGIN:DAYLIGHT
TZOFFSETFROM:-0500
TZOFFSETTO:-0400
TZNAME:EDT
DTSTART:20250309T070000
END:DAYLIGHT
BEGIN:STANDARD
TZOFFSETFROM:-0400
TZOFFSETTO:-0500
TZNAME:EST
DTSTART:20251102T060000
END:STANDARD
BEGIN:DAYLIGHT
TZOFFSETFROM:-0500
TZOFFSETTO:-0400
TZNAME:EDT
DTSTART:20260308T070000
END:DAYLIGHT
BEGIN:STANDARD
TZOFFSETFROM:-0400
TZOFFSETTO:-0500
TZNAME:EST
DTSTART:20261101T060000
END:STANDARD
BEGIN:DAYLIGHT
TZOFFSETFROM:-0500
TZOFFSETTO:-0400
TZNAME:EDT
DTSTART:20270314T070000
END:DAYLIGHT
BEGIN:STANDARD
TZOFFSETFROM:-0400
TZOFFSETTO:-0500
TZNAME:EST
DTSTART:20271107T060000
END:STANDARD
END:VTIMEZONE
BEGIN:VEVENT
DTSTART;TZID=America/New_York:20260813T190000
DTEND;TZID=America/New_York:20260813T210000
DTSTAMP:20260420T164938
CREATED:20250201T223506Z
LAST-MODIFIED:20251024T010019Z
UID:350-1786647600-1786654800@www.warrencountyquiltguild.com
SUMMARY:Monthly Quilt Guild Meeting
DESCRIPTION:
URL:https://www.warrencountyquiltguild.com/event/monthly-guild-meeting-5/
LOCATION:Lebanon Presbyterian Church\, 123 N East St\, Lebanon\, OH\, 45036\, United States
CATEGORIES:Quilt Guild Meetings
ATTACH;FMTTYPE=image/jpeg:https://www.warrencountyquiltguild.com/wp-content/uploads/2025/02/2024-02-featured.jpg
ORGANIZER;CN="Warren County Quilt Guild":MAILTO:information@warrencountyquiltguild.com
END:VEVENT
BEGIN:VEVENT
DTSTART;TZID=America/New_York:20260829T090000
DTEND;TZID=America/New_York:20260829T150000
DTSTAMP:20260420T164938
CREATED:20250201T225028Z
LAST-MODIFIED:20251023T033058Z
UID:369-1787994000-1788015600@www.warrencountyquiltguild.com
SUMMARY:Sit & Sew
DESCRIPTION:Come and sew with us!
URL:https://www.warrencountyquiltguild.com/event/sit-and-sew-4/
LOCATION:Festo\, 7777 Columbia Rd\, Mason\, OH\, 45039\, United States
CATEGORIES:Sit & Sew
ATTACH;FMTTYPE=image/jpeg:https://www.warrencountyquiltguild.com/wp-content/uploads/2025/10/2025-08-16-featured-1-scaled.jpeg
ORGANIZER;CN="Warren County Quilt Guild":MAILTO:information@warrencountyquiltguild.com
END:VEVENT
BEGIN:VEVENT
DTSTART;TZID=America/New_York:20260910T190000
DTEND;TZID=America/New_York:20260910T210000
DTSTAMP:20260420T164938
CREATED:20250824T185200Z
LAST-MODIFIED:20251024T010003Z
UID:2407-1789066800-1789074000@www.warrencountyquiltguild.com
SUMMARY:Monthly Quilt Guild Meeting
DESCRIPTION:
URL:https://www.warrencountyquiltguild.com/event/monthly-quilt-guild-meeting-2/
LOCATION:KY
CATEGORIES:Quilt Guild Meetings
ATTACH;FMTTYPE=image/jpeg:https://www.warrencountyquiltguild.com/wp-content/uploads/2025/08/2025-08-featured-7.jpg
ORGANIZER;CN="Warren County Quilt Guild":MAILTO:information@warrencountyquiltguild.com
END:VEVENT
BEGIN:VEVENT
DTSTART;TZID=America/New_York:20260926T090000
DTEND;TZID=America/New_York:20260926T150000
DTSTAMP:20260420T164938
CREATED:20250817T165749Z
LAST-MODIFIED:20251023T033124Z
UID:2338-1790413200-1790434800@www.warrencountyquiltguild.com
SUMMARY:Sit & Sew
DESCRIPTION:
URL:https://www.warrencountyquiltguild.com/event/sit-sew-2/
LOCATION:Lebanon Fire Station\, 601 N. Broadway\, Lebanon\, OH\, 45036\, United States
CATEGORIES:Sit & Sew
ATTACH;FMTTYPE=image/jpeg:https://www.warrencountyquiltguild.com/wp-content/uploads/2025/08/2025-08-featured-4.jpg
ORGANIZER;CN="Warren County Quilt Guild":MAILTO:information@warrencountyquiltguild.com
END:VEVENT
BEGIN:VEVENT
DTSTART;TZID=America/New_York:20261008T190000
DTEND;TZID=America/New_York:20261008T210000
DTSTAMP:20260420T164938
CREATED:20250201T223920Z
LAST-MODIFIED:20251024T005857Z
UID:356-1791486000-1791493200@www.warrencountyquiltguild.com
SUMMARY:Monthly Quilt Guild Meeting
DESCRIPTION:
URL:https://www.warrencountyquiltguild.com/event/monthly-guild-meeting-7/
LOCATION:Lebanon Presbyterian Church\, 123 N East St\, Lebanon\, OH\, 45036\, United States
CATEGORIES:Quilt Guild Meetings
ATTACH;FMTTYPE=image/jpeg:https://www.warrencountyquiltguild.com/wp-content/uploads/2025/02/2023-11-featured.jpg
ORGANIZER;CN="Warren County Quilt Guild":MAILTO:information@warrencountyquiltguild.com
END:VEVENT
BEGIN:VEVENT
DTSTART;TZID=America/New_York:20261024T090000
DTEND;TZID=America/New_York:20261024T160000
DTSTAMP:20260420T164938
CREATED:20251023T031648Z
LAST-MODIFIED:20251023T032311Z
UID:2599-1792832400-1792857600@www.warrencountyquiltguild.com
SUMMARY:Sit & Sew
DESCRIPTION:Come and sew with us!
URL:https://www.warrencountyquiltguild.com/event/sit-sew-6/
LOCATION:Festo\, 7777 Columbia Rd\, Mason\, OH\, 45039\, United States
CATEGORIES:Sit & Sew
ATTACH;FMTTYPE=image/jpeg:https://www.warrencountyquiltguild.com/wp-content/uploads/2025/10/2025-08-19-featured-1-scaled.jpeg
ORGANIZER;CN="Warren County Quilt Guild":MAILTO:information@warrencountyquiltguild.com
END:VEVENT
BEGIN:VEVENT
DTSTART;TZID=America/New_York:20261112T190000
DTEND;TZID=America/New_York:20261112T210000
DTSTAMP:20260420T164938
CREATED:20251024T011327Z
LAST-MODIFIED:20251024T011528Z
UID:2622-1794510000-1794517200@www.warrencountyquiltguild.com
SUMMARY:Monthly Quilt Guild Meeting
DESCRIPTION:
URL:https://www.warrencountyquiltguild.com/event/monthly-quilt-guild-meeting-4/
LOCATION:Lebanon Presbyterian Church\, 123 N East St\, Lebanon\, OH\, 45036\, United States
CATEGORIES:Quilt Guild Meetings
ATTACH;FMTTYPE=image/jpeg:https://www.warrencountyquiltguild.com/wp-content/uploads/2025/07/2025-06-19-featured.jpg
ORGANIZER;CN="Warren County Quilt Guild":MAILTO:information@warrencountyquiltguild.com
END:VEVENT
BEGIN:VEVENT
DTSTART;TZID=America/New_York:20261128T090000
DTEND;TZID=America/New_York:20261128T150000
DTSTAMP:20260420T164938
CREATED:20251023T031811Z
LAST-MODIFIED:20251023T032316Z
UID:2601-1795856400-1795878000@www.warrencountyquiltguild.com
SUMMARY:Sit & Sew
DESCRIPTION:Come and sew with us!
URL:https://www.warrencountyquiltguild.com/event/sit-sew-7/
LOCATION:Lebanon Fire Station\, 601 N. Broadway\, Lebanon\, OH\, 45036\, United States
CATEGORIES:Sit & Sew
ATTACH;FMTTYPE=image/jpeg:https://www.warrencountyquiltguild.com/wp-content/uploads/2025/10/2025-08-14-featured-1.jpeg
ORGANIZER;CN="Warren County Quilt Guild":MAILTO:information@warrencountyquiltguild.com
END:VEVENT
BEGIN:VEVENT
DTSTART;TZID=America/New_York:20261210T190000
DTEND;TZID=America/New_York:20261210T210000
DTSTAMP:20260420T164938
CREATED:20251024T011444Z
LAST-MODIFIED:20251024T011458Z
UID:2624-1796929200-1796936400@www.warrencountyquiltguild.com
SUMMARY:Monthly Quilt Guild Meeting
DESCRIPTION:
URL:https://www.warrencountyquiltguild.com/event/monthly-quilt-guild-meeting-5/
LOCATION:Lebanon Presbyterian Church\, 123 N East St\, Lebanon\, OH\, 45036\, United States
CATEGORIES:Quilt Guild Meetings
ATTACH;FMTTYPE=image/jpeg:https://www.warrencountyquiltguild.com/wp-content/uploads/2025/04/2025-03-featured6.jpg
ORGANIZER;CN="Warren County Quilt Guild":MAILTO:information@warrencountyquiltguild.com
END:VEVENT
BEGIN:VEVENT
DTSTART;TZID=America/New_York:20261219T090000
DTEND;TZID=America/New_York:20261219T150000
DTSTAMP:20260420T164938
CREATED:20251023T031929Z
LAST-MODIFIED:20251023T032320Z
UID:2603-1797670800-1797692400@www.warrencountyquiltguild.com
SUMMARY:Sit & Sew
DESCRIPTION:Come and sew with us!
URL:https://www.warrencountyquiltguild.com/event/sit-sew-8/
LOCATION:Festo\, 7777 Columbia Rd\, Mason\, OH\, 45039\, United States
CATEGORIES:Sit & Sew
ATTACH;FMTTYPE=image/jpeg:https://www.warrencountyquiltguild.com/wp-content/uploads/2025/08/2025-08-featured-6-scaled.jpg
ORGANIZER;CN="Warren County Quilt Guild":MAILTO:information@warrencountyquiltguild.com
END:VEVENT
END:VCALENDAR