BEGIN:VCALENDAR
VERSION:2.0
PRODID:-//Warren County Quilt Guild - ECPv6.15.20//NONSGML v1.0//EN
CALSCALE:GREGORIAN
METHOD:PUBLISH
X-ORIGINAL-URL:https://www.warrencountyquiltguild.com
X-WR-CALDESC:Events for Warren County Quilt Guild
REFRESH-INTERVAL;VALUE=DURATION:PT1H
X-Robots-Tag:noindex
X-PUBLISHED-TTL:PT1H
BEGIN:VTIMEZONE
TZID:America/New_York
BEGIN:DAYLIGHT
TZOFFSETFROM:-0500
TZOFFSETTO:-0400
TZNAME:EDT
DTSTART:20240310T070000
END:DAYLIGHT
BEGIN:STANDARD
TZOFFSETFROM:-0400
TZOFFSETTO:-0500
TZNAME:EST
DTSTART:20241103T060000
END:STANDARD
BEGIN:DAYLIGHT
TZOFFSETFROM:-0500
TZOFFSETTO:-0400
TZNAME:EDT
DTSTART:20250309T070000
END:DAYLIGHT
BEGIN:STANDARD
TZOFFSETFROM:-0400
TZOFFSETTO:-0500
TZNAME:EST
DTSTART:20251102T060000
END:STANDARD
BEGIN:DAYLIGHT
TZOFFSETFROM:-0500
TZOFFSETTO:-0400
TZNAME:EDT
DTSTART:20260308T070000
END:DAYLIGHT
BEGIN:STANDARD
TZOFFSETFROM:-0400
TZOFFSETTO:-0500
TZNAME:EST
DTSTART:20261101T060000
END:STANDARD
BEGIN:DAYLIGHT
TZOFFSETFROM:-0500
TZOFFSETTO:-0400
TZNAME:EDT
DTSTART:20270314T070000
END:DAYLIGHT
BEGIN:STANDARD
TZOFFSETFROM:-0400
TZOFFSETTO:-0500
TZNAME:EST
DTSTART:20271107T060000
END:STANDARD
END:VTIMEZONE
BEGIN:VEVENT
DTSTART;TZID=America/New_York:20260328T090000
DTEND;TZID=America/New_York:20260328T150000
DTSTAMP:20260420T100726
CREATED:20250225T023741Z
LAST-MODIFIED:20251023T030341Z
UID:1841-1774688400-1774710000@www.warrencountyquiltguild.com
SUMMARY:Sit & Sew
DESCRIPTION:
URL:https://www.warrencountyquiltguild.com/event/sit-sew/
LOCATION:Lebanon Fire Station\, 601 N. Broadway\, Lebanon\, OH\, 45036\, United States
CATEGORIES:Sit & Sew
ATTACH;FMTTYPE=image/jpeg:https://www.warrencountyquiltguild.com/wp-content/uploads/2022/12/2022-12-featured.jpg
ORGANIZER;CN="Warren County Quilt Guild":MAILTO:information@warrencountyquiltguild.com
END:VEVENT
BEGIN:VEVENT
DTSTART;TZID=America/New_York:20260228T090000
DTEND;TZID=America/New_York:20260228T150000
DTSTAMP:20260420T100726
CREATED:20250201T203448Z
LAST-MODIFIED:20251023T030239Z
UID:309-1772269200-1772290800@www.warrencountyquiltguild.com
SUMMARY:Sit & Sew
DESCRIPTION:Festo is off I-71 for Western Row Road. There are 3 entrances. Use the last one on the right when coming from the highway. If you are traveling North on Columbia Road\, it is the first entrance on the left. \nItems will need to be dropped off at the door and then park. Becca will be there early to meet everyone at the door and direct you to the sewing space for the day. \nFesto Corporation is also a non-smoking campus.
URL:https://www.warrencountyquiltguild.com/event/sit-and-sew/
LOCATION:Festo\, 7777 Columbia Rd\, Mason\, OH\, 45039\, United States
CATEGORIES:Sit & Sew
ATTACH;FMTTYPE=image/jpeg:https://www.warrencountyquiltguild.com/wp-content/uploads/2025/02/2024-10-featured.jpg
ORGANIZER;CN="Warren County Quilt Guild":MAILTO:information@warrencountyquiltguild.com
END:VEVENT
BEGIN:VEVENT
DTSTART;TZID=America/New_York:20260131T090000
DTEND;TZID=America/New_York:20260131T150000
DTSTAMP:20260420T100726
CREATED:20251023T031219Z
LAST-MODIFIED:20251023T032110Z
UID:2595-1769850000-1769871600@www.warrencountyquiltguild.com
SUMMARY:Sit & Sew
DESCRIPTION:Come and sew with us!
URL:https://www.warrencountyquiltguild.com/event/sit-sew-4/
LOCATION:Lebanon Fire Station\, 601 N. Broadway\, Lebanon\, OH\, 45036\, United States
CATEGORIES:Sit & Sew
ATTACH;FMTTYPE=image/jpeg:https://www.warrencountyquiltguild.com/wp-content/uploads/2025/08/2025-08-featured-11.jpg
ORGANIZER;CN="Warren County Quilt Guild":MAILTO:information@warrencountyquiltguild.com
END:VEVENT
BEGIN:VEVENT
DTSTART;TZID=America/New_York:20251122T090000
DTEND;TZID=America/New_York:20251122T150000
DTSTAMP:20260420T100726
CREATED:20250201T232645Z
LAST-MODIFIED:20250223T185731Z
UID:385-1763802000-1763823600@www.warrencountyquiltguild.com
SUMMARY:Sit & Sew
DESCRIPTION:
URL:https://www.warrencountyquiltguild.com/event/sit-and-sew-6/
LOCATION:Lebanon Fire Station\, 601 N. Broadway\, Lebanon\, OH\, 45036\, United States
CATEGORIES:Sit & Sew
ATTACH;FMTTYPE=image/jpeg:https://www.warrencountyquiltguild.com/wp-content/uploads/2025/02/2023-01-featured.jpeg
ORGANIZER;CN="Warren County Quilt Guild":MAILTO:information@warrencountyquiltguild.com
END:VEVENT
BEGIN:VEVENT
DTSTART;TZID=America/New_York:20251025T090000
DTEND;TZID=America/New_York:20251025T150000
DTSTAMP:20260420T100726
CREATED:20250201T232448Z
LAST-MODIFIED:20251023T030011Z
UID:383-1761382800-1761404400@www.warrencountyquiltguild.com
SUMMARY:Sit & Sew
DESCRIPTION:
URL:https://www.warrencountyquiltguild.com/event/sit-and-sew-5/
LOCATION:Lebanon Fire Station\, 601 N. Broadway\, Lebanon\, OH\, 45036\, United States
CATEGORIES:Sit & Sew
ATTACH;FMTTYPE=image/jpeg:https://www.warrencountyquiltguild.com/wp-content/uploads/2025/02/2023-09-featured.jpg
ORGANIZER;CN="Warren County Quilt Guild":MAILTO:information@warrencountyquiltguild.com
END:VEVENT
END:VCALENDAR