BEGIN:VCALENDAR
VERSION:2.0
PRODID:-//Warren County Quilt Guild - ECPv6.15.20//NONSGML v1.0//EN
CALSCALE:GREGORIAN
METHOD:PUBLISH
X-ORIGINAL-URL:https://www.warrencountyquiltguild.com
X-WR-CALDESC:Events for Warren County Quilt Guild
REFRESH-INTERVAL;VALUE=DURATION:PT1H
X-Robots-Tag:noindex
X-PUBLISHED-TTL:PT1H
BEGIN:VTIMEZONE
TZID:America/New_York
BEGIN:DAYLIGHT
TZOFFSETFROM:-0500
TZOFFSETTO:-0400
TZNAME:EDT
DTSTART:20240310T070000
END:DAYLIGHT
BEGIN:STANDARD
TZOFFSETFROM:-0400
TZOFFSETTO:-0500
TZNAME:EST
DTSTART:20241103T060000
END:STANDARD
BEGIN:DAYLIGHT
TZOFFSETFROM:-0500
TZOFFSETTO:-0400
TZNAME:EDT
DTSTART:20250309T070000
END:DAYLIGHT
BEGIN:STANDARD
TZOFFSETFROM:-0400
TZOFFSETTO:-0500
TZNAME:EST
DTSTART:20251102T060000
END:STANDARD
BEGIN:DAYLIGHT
TZOFFSETFROM:-0500
TZOFFSETTO:-0400
TZNAME:EDT
DTSTART:20260308T070000
END:DAYLIGHT
BEGIN:STANDARD
TZOFFSETFROM:-0400
TZOFFSETTO:-0500
TZNAME:EST
DTSTART:20261101T060000
END:STANDARD
BEGIN:DAYLIGHT
TZOFFSETFROM:-0500
TZOFFSETTO:-0400
TZNAME:EDT
DTSTART:20270314T070000
END:DAYLIGHT
BEGIN:STANDARD
TZOFFSETFROM:-0400
TZOFFSETTO:-0500
TZNAME:EST
DTSTART:20271107T060000
END:STANDARD
END:VTIMEZONE
BEGIN:VEVENT
DTSTART;TZID=America/New_York:20260409T190000
DTEND;TZID=America/New_York:20260409T210000
DTSTAMP:20260420T113648
CREATED:20250201T222847Z
LAST-MODIFIED:20251024T010105Z
UID:341-1775761200-1775768400@www.warrencountyquiltguild.com
SUMMARY:Monthly Quilt Guild Meeting
DESCRIPTION:
URL:https://www.warrencountyquiltguild.com/event/monthly-guild-meeting-2/
LOCATION:Lebanon Presbyterian Church\, 123 N East St\, Lebanon\, OH\, 45036\, United States
CATEGORIES:Quilt Guild Meetings
ATTACH;FMTTYPE=image/jpeg:https://www.warrencountyquiltguild.com/wp-content/uploads/2025/02/2024-07-featured.jpg
ORGANIZER;CN="Warren County Quilt Guild":MAILTO:information@warrencountyquiltguild.com
END:VEVENT
BEGIN:VEVENT
DTSTART;TZID=America/New_York:20260312T190000
DTEND;TZID=America/New_York:20260312T210000
DTSTAMP:20260420T113648
CREATED:20250201T224158Z
LAST-MODIFIED:20251024T010117Z
UID:360-1773342000-1773349200@www.warrencountyquiltguild.com
SUMMARY:Monthly Quilt Guild Meeting
DESCRIPTION:
URL:https://www.warrencountyquiltguild.com/event/monthly-guild-meeting-9/
LOCATION:Lebanon Presbyterian Church\, 123 N East St\, Lebanon\, OH\, 45036\, United States
CATEGORIES:Quilt Guild Meetings
ATTACH;FMTTYPE=image/jpeg:https://www.warrencountyquiltguild.com/wp-content/uploads/2023/08/2023-08-featured.jpg
ORGANIZER;CN="Warren County Quilt Guild":MAILTO:information@warrencountyquiltguild.com
END:VEVENT
BEGIN:VEVENT
DTSTART;TZID=America/New_York:20260212T190000
DTEND;TZID=America/New_York:20260212T210000
DTSTAMP:20260420T113648
CREATED:20250201T202849Z
LAST-MODIFIED:20251024T010128Z
UID:306-1770922800-1770930000@www.warrencountyquiltguild.com
SUMMARY:Monthly Quilt Guild Meeting
DESCRIPTION:
URL:https://www.warrencountyquiltguild.com/event/monthly-quilt-guild-meeting/
LOCATION:Lebanon Presbyterian Church\, 123 N East St\, Lebanon\, OH\, 45036\, United States
CATEGORIES:Quilt Guild Meetings
ATTACH;FMTTYPE=image/jpeg:https://www.warrencountyquiltguild.com/wp-content/uploads/2025/02/2023-03-featured.jpg
ORGANIZER;CN="Warren County Quilt Guild":MAILTO:information@warrencountyquiltguild.com
END:VEVENT
BEGIN:VEVENT
DTSTART;TZID=America/New_York:20260108T190000
DTEND;TZID=America/New_York:20260108T210000
DTSTAMP:20260420T113648
CREATED:20251024T010635Z
LAST-MODIFIED:20251204T132040Z
UID:2620-1767898800-1767906000@www.warrencountyquiltguild.com
SUMMARY:Monthly Quilt Guild Meeting
DESCRIPTION:Join us for our monthly guild meeting online. We all get to stay at home\, get cozy\, and join our meeting on Zoom.
URL:https://www.warrencountyquiltguild.com/event/monthly-quilt-guild-meeting-3/
LOCATION:Zoom – Online Meeting
CATEGORIES:Quilt Guild Meetings
ATTACH;FMTTYPE=image/jpeg:https://www.warrencountyquiltguild.com/wp-content/uploads/2025/10/2025-08-01-featured-1.jpeg
ORGANIZER;CN="Warren County Quilt Guild":MAILTO:information@warrencountyquiltguild.com
END:VEVENT
BEGIN:VEVENT
DTSTART;TZID=America/New_York:20251211T190000
DTEND;TZID=America/New_York:20251211T210000
DTSTAMP:20260420T113648
CREATED:20250201T224451Z
LAST-MODIFIED:20251211T180506Z
UID:363-1765479600-1765486800@www.warrencountyquiltguild.com
SUMMARY:CANCELED - Monthly Quilt Guild Meeting
DESCRIPTION:
URL:https://www.warrencountyquiltguild.com/event/monthly-guild-meeting/
LOCATION:Lebanon Presbyterian Church\, 123 N East St\, Lebanon\, OH\, 45036\, United States
CATEGORIES:Quilt Guild Meetings
ATTACH;FMTTYPE=image/jpeg:https://www.warrencountyquiltguild.com/wp-content/uploads/2022/12/2022-12-featured.jpg
ORGANIZER;CN="Warren County Quilt Guild":MAILTO:information@warrencountyquiltguild.com
END:VEVENT
BEGIN:VEVENT
DTSTART;TZID=America/New_York:20251113T190000
DTEND;TZID=America/New_York:20251113T210000
DTSTAMP:20260420T113648
CREATED:20250201T224040Z
LAST-MODIFIED:20250424T231326Z
UID:358-1763060400-1763067600@www.warrencountyquiltguild.com
SUMMARY:Monthly Quilt Guild Meeting
DESCRIPTION:
URL:https://www.warrencountyquiltguild.com/event/monthly-guild-meeting-8/
LOCATION:Lebanon Presbyterian Church\, 123 N East St\, Lebanon\, OH\, 45036\, United States
CATEGORIES:Quilt Guild Meetings
ATTACH;FMTTYPE=image/jpeg:https://www.warrencountyquiltguild.com/wp-content/uploads/2025/02/2023-02-featured.jpg
ORGANIZER;CN="Warren County Quilt Guild":MAILTO:information@warrencountyquiltguild.com
END:VEVENT
BEGIN:VEVENT
DTSTART;TZID=America/New_York:20250911T220000
DTEND;TZID=America/New_York:20250914T150000
DTSTAMP:20260420T113648
CREATED:20250201T223826Z
LAST-MODIFIED:20250824T185407Z
UID:354-1757628000-1757862000@www.warrencountyquiltguild.com
SUMMARY:Fall 2025 Retreat
DESCRIPTION:
URL:https://www.warrencountyquiltguild.com/event/monthly-guild-meeting-6/
LOCATION:Holiday Inn Cincinnati\, 7500 Tylers Pl Blvd\, West Chester Township\, OH\, 45069\, United States
CATEGORIES:Quilt Guild Meetings,Retreat
ATTACH;FMTTYPE=image/jpeg:https://www.warrencountyquiltguild.com/wp-content/uploads/2025/02/2023-12-featured.jpg
ORGANIZER;CN="Warren County Quilt Guild":MAILTO:information@warrencountyquiltguild.com
END:VEVENT
END:VCALENDAR